BEGIN:VCALENDAR
VERSION:2.0
PRODID:-//The Allison Inn &amp; Spa - ECPv6.15.18//NONSGML v1.0//EN
CALSCALE:GREGORIAN
METHOD:PUBLISH
X-ORIGINAL-URL:https://theallison.com
X-WR-CALDESC:Events for The Allison Inn &amp; Spa
REFRESH-INTERVAL;VALUE=DURATION:PT1H
X-Robots-Tag:noindex
X-PUBLISHED-TTL:PT1H
BEGIN:VTIMEZONE
TZID:America/Los_Angeles
BEGIN:DAYLIGHT
TZOFFSETFROM:-0800
TZOFFSETTO:-0700
TZNAME:PDT
DTSTART:20260308T100000
END:DAYLIGHT
BEGIN:STANDARD
TZOFFSETFROM:-0700
TZOFFSETTO:-0800
TZNAME:PST
DTSTART:20261101T090000
END:STANDARD
BEGIN:DAYLIGHT
TZOFFSETFROM:-0800
TZOFFSETTO:-0700
TZNAME:PDT
DTSTART:20270314T100000
END:DAYLIGHT
BEGIN:STANDARD
TZOFFSETFROM:-0700
TZOFFSETTO:-0800
TZNAME:PST
DTSTART:20271107T090000
END:STANDARD
BEGIN:DAYLIGHT
TZOFFSETFROM:-0800
TZOFFSETTO:-0700
TZNAME:PDT
DTSTART:20280312T100000
END:DAYLIGHT
BEGIN:STANDARD
TZOFFSETFROM:-0700
TZOFFSETTO:-0800
TZNAME:PST
DTSTART:20281105T090000
END:STANDARD
END:VTIMEZONE
BEGIN:VEVENT
DTSTART;TZID=America/Los_Angeles:20270521T100000
DTEND;TZID=America/Los_Angeles:20270521T110000
DTSTAMP:20260422T020254
CREATED:20260320T195315Z
LAST-MODIFIED:20260421T010617Z
UID:10001572-1810893600-1810897200@theallison.com
SUMMARY:Garden Tour
DESCRIPTION:Step into the heart of our culinary story with a guided tour of the Chef’s Garden at The Allison Inn & Spa. \nOffered complimentary to hotel guests every Friday at 10 a.m.\, April through October\, this intimate experience is led by a member of our garden team\, an extension of JORY’s culinary program. Stroll through the garden as we share how our ingredients are grown\, harvested and sourced\, and learn about our bee colonies and the remarkable role they play in our garden ecosystem and culinary offerings. \nRSVP today to save your spot for this small group experience.
URL:https://theallison.com/event/garden-tour/2027-05-21/
LOCATION:The Allison Inn & Spa\, 2525 Allison Lane\, Newberg\, OR\, 97132\, United States
CATEGORIES:Featured Events
ATTACH;FMTTYPE=image/png:https://theallison.com/wp-content/uploads/2026/03/gardentour.png
ORGANIZER;CN="The Allison Inn & Spa":MAILTO:info@theallison.com
END:VEVENT
BEGIN:VEVENT
DTSTART;TZID=America/Los_Angeles:20270528T100000
DTEND;TZID=America/Los_Angeles:20270528T110000
DTSTAMP:20260422T020254
CREATED:20260320T195315Z
LAST-MODIFIED:20260421T010617Z
UID:10001573-1811498400-1811502000@theallison.com
SUMMARY:Garden Tour
DESCRIPTION:Step into the heart of our culinary story with a guided tour of the Chef’s Garden at The Allison Inn & Spa. \nOffered complimentary to hotel guests every Friday at 10 a.m.\, April through October\, this intimate experience is led by a member of our garden team\, an extension of JORY’s culinary program. Stroll through the garden as we share how our ingredients are grown\, harvested and sourced\, and learn about our bee colonies and the remarkable role they play in our garden ecosystem and culinary offerings. \nRSVP today to save your spot for this small group experience.
URL:https://theallison.com/event/garden-tour/2027-05-28/
LOCATION:The Allison Inn & Spa\, 2525 Allison Lane\, Newberg\, OR\, 97132\, United States
CATEGORIES:Featured Events
ATTACH;FMTTYPE=image/png:https://theallison.com/wp-content/uploads/2026/03/gardentour.png
ORGANIZER;CN="The Allison Inn & Spa":MAILTO:info@theallison.com
END:VEVENT
BEGIN:VEVENT
DTSTART;TZID=America/Los_Angeles:20270604T100000
DTEND;TZID=America/Los_Angeles:20270604T110000
DTSTAMP:20260422T020254
CREATED:20260320T195315Z
LAST-MODIFIED:20260421T010617Z
UID:10001574-1812103200-1812106800@theallison.com
SUMMARY:Garden Tour
DESCRIPTION:Step into the heart of our culinary story with a guided tour of the Chef’s Garden at The Allison Inn & Spa. \nOffered complimentary to hotel guests every Friday at 10 a.m.\, April through October\, this intimate experience is led by a member of our garden team\, an extension of JORY’s culinary program. Stroll through the garden as we share how our ingredients are grown\, harvested and sourced\, and learn about our bee colonies and the remarkable role they play in our garden ecosystem and culinary offerings. \nRSVP today to save your spot for this small group experience.
URL:https://theallison.com/event/garden-tour/2027-06-04/
LOCATION:The Allison Inn & Spa\, 2525 Allison Lane\, Newberg\, OR\, 97132\, United States
CATEGORIES:Featured Events
ATTACH;FMTTYPE=image/png:https://theallison.com/wp-content/uploads/2026/03/gardentour.png
ORGANIZER;CN="The Allison Inn & Spa":MAILTO:info@theallison.com
END:VEVENT
BEGIN:VEVENT
DTSTART;TZID=America/Los_Angeles:20270611T100000
DTEND;TZID=America/Los_Angeles:20270611T110000
DTSTAMP:20260422T020254
CREATED:20260320T195315Z
LAST-MODIFIED:20260421T010617Z
UID:10001575-1812708000-1812711600@theallison.com
SUMMARY:Garden Tour
DESCRIPTION:Step into the heart of our culinary story with a guided tour of the Chef’s Garden at The Allison Inn & Spa. \nOffered complimentary to hotel guests every Friday at 10 a.m.\, April through October\, this intimate experience is led by a member of our garden team\, an extension of JORY’s culinary program. Stroll through the garden as we share how our ingredients are grown\, harvested and sourced\, and learn about our bee colonies and the remarkable role they play in our garden ecosystem and culinary offerings. \nRSVP today to save your spot for this small group experience.
URL:https://theallison.com/event/garden-tour/2027-06-11/
LOCATION:The Allison Inn & Spa\, 2525 Allison Lane\, Newberg\, OR\, 97132\, United States
CATEGORIES:Featured Events
ATTACH;FMTTYPE=image/png:https://theallison.com/wp-content/uploads/2026/03/gardentour.png
ORGANIZER;CN="The Allison Inn & Spa":MAILTO:info@theallison.com
END:VEVENT
BEGIN:VEVENT
DTSTART;TZID=America/Los_Angeles:20270618T100000
DTEND;TZID=America/Los_Angeles:20270618T110000
DTSTAMP:20260422T020254
CREATED:20260320T195315Z
LAST-MODIFIED:20260421T010617Z
UID:10001576-1813312800-1813316400@theallison.com
SUMMARY:Garden Tour
DESCRIPTION:Step into the heart of our culinary story with a guided tour of the Chef’s Garden at The Allison Inn & Spa. \nOffered complimentary to hotel guests every Friday at 10 a.m.\, April through October\, this intimate experience is led by a member of our garden team\, an extension of JORY’s culinary program. Stroll through the garden as we share how our ingredients are grown\, harvested and sourced\, and learn about our bee colonies and the remarkable role they play in our garden ecosystem and culinary offerings. \nRSVP today to save your spot for this small group experience.
URL:https://theallison.com/event/garden-tour/2027-06-18/
LOCATION:The Allison Inn & Spa\, 2525 Allison Lane\, Newberg\, OR\, 97132\, United States
CATEGORIES:Featured Events
ATTACH;FMTTYPE=image/png:https://theallison.com/wp-content/uploads/2026/03/gardentour.png
ORGANIZER;CN="The Allison Inn & Spa":MAILTO:info@theallison.com
END:VEVENT
BEGIN:VEVENT
DTSTART;TZID=America/Los_Angeles:20270625T100000
DTEND;TZID=America/Los_Angeles:20270625T110000
DTSTAMP:20260422T020254
CREATED:20260320T195315Z
LAST-MODIFIED:20260421T010617Z
UID:10001577-1813917600-1813921200@theallison.com
SUMMARY:Garden Tour
DESCRIPTION:Step into the heart of our culinary story with a guided tour of the Chef’s Garden at The Allison Inn & Spa. \nOffered complimentary to hotel guests every Friday at 10 a.m.\, April through October\, this intimate experience is led by a member of our garden team\, an extension of JORY’s culinary program. Stroll through the garden as we share how our ingredients are grown\, harvested and sourced\, and learn about our bee colonies and the remarkable role they play in our garden ecosystem and culinary offerings. \nRSVP today to save your spot for this small group experience.
URL:https://theallison.com/event/garden-tour/2027-06-25/
LOCATION:The Allison Inn & Spa\, 2525 Allison Lane\, Newberg\, OR\, 97132\, United States
CATEGORIES:Featured Events
ATTACH;FMTTYPE=image/png:https://theallison.com/wp-content/uploads/2026/03/gardentour.png
ORGANIZER;CN="The Allison Inn & Spa":MAILTO:info@theallison.com
END:VEVENT
BEGIN:VEVENT
DTSTART;TZID=America/Los_Angeles:20270702T100000
DTEND;TZID=America/Los_Angeles:20270702T110000
DTSTAMP:20260422T020254
CREATED:20260320T195315Z
LAST-MODIFIED:20260421T010617Z
UID:10001578-1814522400-1814526000@theallison.com
SUMMARY:Garden Tour
DESCRIPTION:Step into the heart of our culinary story with a guided tour of the Chef’s Garden at The Allison Inn & Spa. \nOffered complimentary to hotel guests every Friday at 10 a.m.\, April through October\, this intimate experience is led by a member of our garden team\, an extension of JORY’s culinary program. Stroll through the garden as we share how our ingredients are grown\, harvested and sourced\, and learn about our bee colonies and the remarkable role they play in our garden ecosystem and culinary offerings. \nRSVP today to save your spot for this small group experience.
URL:https://theallison.com/event/garden-tour/2027-07-02/
LOCATION:The Allison Inn & Spa\, 2525 Allison Lane\, Newberg\, OR\, 97132\, United States
CATEGORIES:Featured Events
ATTACH;FMTTYPE=image/png:https://theallison.com/wp-content/uploads/2026/03/gardentour.png
ORGANIZER;CN="The Allison Inn & Spa":MAILTO:info@theallison.com
END:VEVENT
BEGIN:VEVENT
DTSTART;TZID=America/Los_Angeles:20270709T100000
DTEND;TZID=America/Los_Angeles:20270709T110000
DTSTAMP:20260422T020254
CREATED:20260320T195315Z
LAST-MODIFIED:20260421T010617Z
UID:10001579-1815127200-1815130800@theallison.com
SUMMARY:Garden Tour
DESCRIPTION:Step into the heart of our culinary story with a guided tour of the Chef’s Garden at The Allison Inn & Spa. \nOffered complimentary to hotel guests every Friday at 10 a.m.\, April through October\, this intimate experience is led by a member of our garden team\, an extension of JORY’s culinary program. Stroll through the garden as we share how our ingredients are grown\, harvested and sourced\, and learn about our bee colonies and the remarkable role they play in our garden ecosystem and culinary offerings. \nRSVP today to save your spot for this small group experience.
URL:https://theallison.com/event/garden-tour/2027-07-09/
LOCATION:The Allison Inn & Spa\, 2525 Allison Lane\, Newberg\, OR\, 97132\, United States
CATEGORIES:Featured Events
ATTACH;FMTTYPE=image/png:https://theallison.com/wp-content/uploads/2026/03/gardentour.png
ORGANIZER;CN="The Allison Inn & Spa":MAILTO:info@theallison.com
END:VEVENT
BEGIN:VEVENT
DTSTART;TZID=America/Los_Angeles:20270716T100000
DTEND;TZID=America/Los_Angeles:20270716T110000
DTSTAMP:20260422T020254
CREATED:20260320T195315Z
LAST-MODIFIED:20260421T010617Z
UID:10001580-1815732000-1815735600@theallison.com
SUMMARY:Garden Tour
DESCRIPTION:Step into the heart of our culinary story with a guided tour of the Chef’s Garden at The Allison Inn & Spa. \nOffered complimentary to hotel guests every Friday at 10 a.m.\, April through October\, this intimate experience is led by a member of our garden team\, an extension of JORY’s culinary program. Stroll through the garden as we share how our ingredients are grown\, harvested and sourced\, and learn about our bee colonies and the remarkable role they play in our garden ecosystem and culinary offerings. \nRSVP today to save your spot for this small group experience.
URL:https://theallison.com/event/garden-tour/2027-07-16/
LOCATION:The Allison Inn & Spa\, 2525 Allison Lane\, Newberg\, OR\, 97132\, United States
CATEGORIES:Featured Events
ATTACH;FMTTYPE=image/png:https://theallison.com/wp-content/uploads/2026/03/gardentour.png
ORGANIZER;CN="The Allison Inn & Spa":MAILTO:info@theallison.com
END:VEVENT
BEGIN:VEVENT
DTSTART;TZID=America/Los_Angeles:20270723T100000
DTEND;TZID=America/Los_Angeles:20270723T110000
DTSTAMP:20260422T020254
CREATED:20260320T195315Z
LAST-MODIFIED:20260421T010617Z
UID:10001581-1816336800-1816340400@theallison.com
SUMMARY:Garden Tour
DESCRIPTION:Step into the heart of our culinary story with a guided tour of the Chef’s Garden at The Allison Inn & Spa. \nOffered complimentary to hotel guests every Friday at 10 a.m.\, April through October\, this intimate experience is led by a member of our garden team\, an extension of JORY’s culinary program. Stroll through the garden as we share how our ingredients are grown\, harvested and sourced\, and learn about our bee colonies and the remarkable role they play in our garden ecosystem and culinary offerings. \nRSVP today to save your spot for this small group experience.
URL:https://theallison.com/event/garden-tour/2027-07-23/
LOCATION:The Allison Inn & Spa\, 2525 Allison Lane\, Newberg\, OR\, 97132\, United States
CATEGORIES:Featured Events
ATTACH;FMTTYPE=image/png:https://theallison.com/wp-content/uploads/2026/03/gardentour.png
ORGANIZER;CN="The Allison Inn & Spa":MAILTO:info@theallison.com
END:VEVENT
BEGIN:VEVENT
DTSTART;TZID=America/Los_Angeles:20270730T100000
DTEND;TZID=America/Los_Angeles:20270730T110000
DTSTAMP:20260422T020254
CREATED:20260320T195315Z
LAST-MODIFIED:20260421T010617Z
UID:10001582-1816941600-1816945200@theallison.com
SUMMARY:Garden Tour
DESCRIPTION:Step into the heart of our culinary story with a guided tour of the Chef’s Garden at The Allison Inn & Spa. \nOffered complimentary to hotel guests every Friday at 10 a.m.\, April through October\, this intimate experience is led by a member of our garden team\, an extension of JORY’s culinary program. Stroll through the garden as we share how our ingredients are grown\, harvested and sourced\, and learn about our bee colonies and the remarkable role they play in our garden ecosystem and culinary offerings. \nRSVP today to save your spot for this small group experience.
URL:https://theallison.com/event/garden-tour/2027-07-30/
LOCATION:The Allison Inn & Spa\, 2525 Allison Lane\, Newberg\, OR\, 97132\, United States
CATEGORIES:Featured Events
ATTACH;FMTTYPE=image/png:https://theallison.com/wp-content/uploads/2026/03/gardentour.png
ORGANIZER;CN="The Allison Inn & Spa":MAILTO:info@theallison.com
END:VEVENT
BEGIN:VEVENT
DTSTART;TZID=America/Los_Angeles:20270806T100000
DTEND;TZID=America/Los_Angeles:20270806T110000
DTSTAMP:20260422T020254
CREATED:20260320T195315Z
LAST-MODIFIED:20260421T010617Z
UID:10001583-1817546400-1817550000@theallison.com
SUMMARY:Garden Tour
DESCRIPTION:Step into the heart of our culinary story with a guided tour of the Chef’s Garden at The Allison Inn & Spa. \nOffered complimentary to hotel guests every Friday at 10 a.m.\, April through October\, this intimate experience is led by a member of our garden team\, an extension of JORY’s culinary program. Stroll through the garden as we share how our ingredients are grown\, harvested and sourced\, and learn about our bee colonies and the remarkable role they play in our garden ecosystem and culinary offerings. \nRSVP today to save your spot for this small group experience.
URL:https://theallison.com/event/garden-tour/2027-08-06/
LOCATION:The Allison Inn & Spa\, 2525 Allison Lane\, Newberg\, OR\, 97132\, United States
CATEGORIES:Featured Events
ATTACH;FMTTYPE=image/png:https://theallison.com/wp-content/uploads/2026/03/gardentour.png
ORGANIZER;CN="The Allison Inn & Spa":MAILTO:info@theallison.com
END:VEVENT
BEGIN:VEVENT
DTSTART;TZID=America/Los_Angeles:20270813T100000
DTEND;TZID=America/Los_Angeles:20270813T110000
DTSTAMP:20260422T020254
CREATED:20260320T195315Z
LAST-MODIFIED:20260421T010617Z
UID:10001584-1818151200-1818154800@theallison.com
SUMMARY:Garden Tour
DESCRIPTION:Step into the heart of our culinary story with a guided tour of the Chef’s Garden at The Allison Inn & Spa. \nOffered complimentary to hotel guests every Friday at 10 a.m.\, April through October\, this intimate experience is led by a member of our garden team\, an extension of JORY’s culinary program. Stroll through the garden as we share how our ingredients are grown\, harvested and sourced\, and learn about our bee colonies and the remarkable role they play in our garden ecosystem and culinary offerings. \nRSVP today to save your spot for this small group experience.
URL:https://theallison.com/event/garden-tour/2027-08-13/
LOCATION:The Allison Inn & Spa\, 2525 Allison Lane\, Newberg\, OR\, 97132\, United States
CATEGORIES:Featured Events
ATTACH;FMTTYPE=image/png:https://theallison.com/wp-content/uploads/2026/03/gardentour.png
ORGANIZER;CN="The Allison Inn & Spa":MAILTO:info@theallison.com
END:VEVENT
BEGIN:VEVENT
DTSTART;TZID=America/Los_Angeles:20270820T100000
DTEND;TZID=America/Los_Angeles:20270820T110000
DTSTAMP:20260422T020254
CREATED:20260320T195315Z
LAST-MODIFIED:20260421T010617Z
UID:10001585-1818756000-1818759600@theallison.com
SUMMARY:Garden Tour
DESCRIPTION:Step into the heart of our culinary story with a guided tour of the Chef’s Garden at The Allison Inn & Spa. \nOffered complimentary to hotel guests every Friday at 10 a.m.\, April through October\, this intimate experience is led by a member of our garden team\, an extension of JORY’s culinary program. Stroll through the garden as we share how our ingredients are grown\, harvested and sourced\, and learn about our bee colonies and the remarkable role they play in our garden ecosystem and culinary offerings. \nRSVP today to save your spot for this small group experience.
URL:https://theallison.com/event/garden-tour/2027-08-20/
LOCATION:The Allison Inn & Spa\, 2525 Allison Lane\, Newberg\, OR\, 97132\, United States
CATEGORIES:Featured Events
ATTACH;FMTTYPE=image/png:https://theallison.com/wp-content/uploads/2026/03/gardentour.png
ORGANIZER;CN="The Allison Inn & Spa":MAILTO:info@theallison.com
END:VEVENT
BEGIN:VEVENT
DTSTART;TZID=America/Los_Angeles:20270827T100000
DTEND;TZID=America/Los_Angeles:20270827T110000
DTSTAMP:20260422T020254
CREATED:20260320T195315Z
LAST-MODIFIED:20260421T010617Z
UID:10001586-1819360800-1819364400@theallison.com
SUMMARY:Garden Tour
DESCRIPTION:Step into the heart of our culinary story with a guided tour of the Chef’s Garden at The Allison Inn & Spa. \nOffered complimentary to hotel guests every Friday at 10 a.m.\, April through October\, this intimate experience is led by a member of our garden team\, an extension of JORY’s culinary program. Stroll through the garden as we share how our ingredients are grown\, harvested and sourced\, and learn about our bee colonies and the remarkable role they play in our garden ecosystem and culinary offerings. \nRSVP today to save your spot for this small group experience.
URL:https://theallison.com/event/garden-tour/2027-08-27/
LOCATION:The Allison Inn & Spa\, 2525 Allison Lane\, Newberg\, OR\, 97132\, United States
CATEGORIES:Featured Events
ATTACH;FMTTYPE=image/png:https://theallison.com/wp-content/uploads/2026/03/gardentour.png
ORGANIZER;CN="The Allison Inn & Spa":MAILTO:info@theallison.com
END:VEVENT
BEGIN:VEVENT
DTSTART;TZID=America/Los_Angeles:20270903T100000
DTEND;TZID=America/Los_Angeles:20270903T110000
DTSTAMP:20260422T020254
CREATED:20260320T195315Z
LAST-MODIFIED:20260421T010617Z
UID:10001587-1819965600-1819969200@theallison.com
SUMMARY:Garden Tour
DESCRIPTION:Step into the heart of our culinary story with a guided tour of the Chef’s Garden at The Allison Inn & Spa. \nOffered complimentary to hotel guests every Friday at 10 a.m.\, April through October\, this intimate experience is led by a member of our garden team\, an extension of JORY’s culinary program. Stroll through the garden as we share how our ingredients are grown\, harvested and sourced\, and learn about our bee colonies and the remarkable role they play in our garden ecosystem and culinary offerings. \nRSVP today to save your spot for this small group experience.
URL:https://theallison.com/event/garden-tour/2027-09-03/
LOCATION:The Allison Inn & Spa\, 2525 Allison Lane\, Newberg\, OR\, 97132\, United States
CATEGORIES:Featured Events
ATTACH;FMTTYPE=image/png:https://theallison.com/wp-content/uploads/2026/03/gardentour.png
ORGANIZER;CN="The Allison Inn & Spa":MAILTO:info@theallison.com
END:VEVENT
BEGIN:VEVENT
DTSTART;TZID=America/Los_Angeles:20270910T100000
DTEND;TZID=America/Los_Angeles:20270910T110000
DTSTAMP:20260422T020254
CREATED:20260320T195315Z
LAST-MODIFIED:20260421T010617Z
UID:10001588-1820570400-1820574000@theallison.com
SUMMARY:Garden Tour
DESCRIPTION:Step into the heart of our culinary story with a guided tour of the Chef’s Garden at The Allison Inn & Spa. \nOffered complimentary to hotel guests every Friday at 10 a.m.\, April through October\, this intimate experience is led by a member of our garden team\, an extension of JORY’s culinary program. Stroll through the garden as we share how our ingredients are grown\, harvested and sourced\, and learn about our bee colonies and the remarkable role they play in our garden ecosystem and culinary offerings. \nRSVP today to save your spot for this small group experience.
URL:https://theallison.com/event/garden-tour/2027-09-10/
LOCATION:The Allison Inn & Spa\, 2525 Allison Lane\, Newberg\, OR\, 97132\, United States
CATEGORIES:Featured Events
ATTACH;FMTTYPE=image/png:https://theallison.com/wp-content/uploads/2026/03/gardentour.png
ORGANIZER;CN="The Allison Inn & Spa":MAILTO:info@theallison.com
END:VEVENT
BEGIN:VEVENT
DTSTART;TZID=America/Los_Angeles:20270917T100000
DTEND;TZID=America/Los_Angeles:20270917T110000
DTSTAMP:20260422T020254
CREATED:20260320T195315Z
LAST-MODIFIED:20260421T010617Z
UID:10001589-1821175200-1821178800@theallison.com
SUMMARY:Garden Tour
DESCRIPTION:Step into the heart of our culinary story with a guided tour of the Chef’s Garden at The Allison Inn & Spa. \nOffered complimentary to hotel guests every Friday at 10 a.m.\, April through October\, this intimate experience is led by a member of our garden team\, an extension of JORY’s culinary program. Stroll through the garden as we share how our ingredients are grown\, harvested and sourced\, and learn about our bee colonies and the remarkable role they play in our garden ecosystem and culinary offerings. \nRSVP today to save your spot for this small group experience.
URL:https://theallison.com/event/garden-tour/2027-09-17/
LOCATION:The Allison Inn & Spa\, 2525 Allison Lane\, Newberg\, OR\, 97132\, United States
CATEGORIES:Featured Events
ATTACH;FMTTYPE=image/png:https://theallison.com/wp-content/uploads/2026/03/gardentour.png
ORGANIZER;CN="The Allison Inn & Spa":MAILTO:info@theallison.com
END:VEVENT
BEGIN:VEVENT
DTSTART;TZID=America/Los_Angeles:20270924T100000
DTEND;TZID=America/Los_Angeles:20270924T110000
DTSTAMP:20260422T020254
CREATED:20260320T195315Z
LAST-MODIFIED:20260421T010617Z
UID:10001590-1821780000-1821783600@theallison.com
SUMMARY:Garden Tour
DESCRIPTION:Step into the heart of our culinary story with a guided tour of the Chef’s Garden at The Allison Inn & Spa. \nOffered complimentary to hotel guests every Friday at 10 a.m.\, April through October\, this intimate experience is led by a member of our garden team\, an extension of JORY’s culinary program. Stroll through the garden as we share how our ingredients are grown\, harvested and sourced\, and learn about our bee colonies and the remarkable role they play in our garden ecosystem and culinary offerings. \nRSVP today to save your spot for this small group experience.
URL:https://theallison.com/event/garden-tour/2027-09-24/
LOCATION:The Allison Inn & Spa\, 2525 Allison Lane\, Newberg\, OR\, 97132\, United States
CATEGORIES:Featured Events
ATTACH;FMTTYPE=image/png:https://theallison.com/wp-content/uploads/2026/03/gardentour.png
ORGANIZER;CN="The Allison Inn & Spa":MAILTO:info@theallison.com
END:VEVENT
BEGIN:VEVENT
DTSTART;TZID=America/Los_Angeles:20271001T100000
DTEND;TZID=America/Los_Angeles:20271001T110000
DTSTAMP:20260422T020254
CREATED:20260320T195315Z
LAST-MODIFIED:20260421T010617Z
UID:10001591-1822384800-1822388400@theallison.com
SUMMARY:Garden Tour
DESCRIPTION:Step into the heart of our culinary story with a guided tour of the Chef’s Garden at The Allison Inn & Spa. \nOffered complimentary to hotel guests every Friday at 10 a.m.\, April through October\, this intimate experience is led by a member of our garden team\, an extension of JORY’s culinary program. Stroll through the garden as we share how our ingredients are grown\, harvested and sourced\, and learn about our bee colonies and the remarkable role they play in our garden ecosystem and culinary offerings. \nRSVP today to save your spot for this small group experience.
URL:https://theallison.com/event/garden-tour/2027-10-01/
LOCATION:The Allison Inn & Spa\, 2525 Allison Lane\, Newberg\, OR\, 97132\, United States
CATEGORIES:Featured Events
ATTACH;FMTTYPE=image/png:https://theallison.com/wp-content/uploads/2026/03/gardentour.png
ORGANIZER;CN="The Allison Inn & Spa":MAILTO:info@theallison.com
END:VEVENT
BEGIN:VEVENT
DTSTART;TZID=America/Los_Angeles:20271008T100000
DTEND;TZID=America/Los_Angeles:20271008T110000
DTSTAMP:20260422T020254
CREATED:20260320T195315Z
LAST-MODIFIED:20260421T010617Z
UID:10001592-1822989600-1822993200@theallison.com
SUMMARY:Garden Tour
DESCRIPTION:Step into the heart of our culinary story with a guided tour of the Chef’s Garden at The Allison Inn & Spa. \nOffered complimentary to hotel guests every Friday at 10 a.m.\, April through October\, this intimate experience is led by a member of our garden team\, an extension of JORY’s culinary program. Stroll through the garden as we share how our ingredients are grown\, harvested and sourced\, and learn about our bee colonies and the remarkable role they play in our garden ecosystem and culinary offerings. \nRSVP today to save your spot for this small group experience.
URL:https://theallison.com/event/garden-tour/2027-10-08/
LOCATION:The Allison Inn & Spa\, 2525 Allison Lane\, Newberg\, OR\, 97132\, United States
CATEGORIES:Featured Events
ATTACH;FMTTYPE=image/png:https://theallison.com/wp-content/uploads/2026/03/gardentour.png
ORGANIZER;CN="The Allison Inn & Spa":MAILTO:info@theallison.com
END:VEVENT
BEGIN:VEVENT
DTSTART;TZID=America/Los_Angeles:20271015T100000
DTEND;TZID=America/Los_Angeles:20271015T110000
DTSTAMP:20260422T020254
CREATED:20260320T195315Z
LAST-MODIFIED:20260421T010617Z
UID:10001593-1823594400-1823598000@theallison.com
SUMMARY:Garden Tour
DESCRIPTION:Step into the heart of our culinary story with a guided tour of the Chef’s Garden at The Allison Inn & Spa. \nOffered complimentary to hotel guests every Friday at 10 a.m.\, April through October\, this intimate experience is led by a member of our garden team\, an extension of JORY’s culinary program. Stroll through the garden as we share how our ingredients are grown\, harvested and sourced\, and learn about our bee colonies and the remarkable role they play in our garden ecosystem and culinary offerings. \nRSVP today to save your spot for this small group experience.
URL:https://theallison.com/event/garden-tour/2027-10-15/
LOCATION:The Allison Inn & Spa\, 2525 Allison Lane\, Newberg\, OR\, 97132\, United States
CATEGORIES:Featured Events
ATTACH;FMTTYPE=image/png:https://theallison.com/wp-content/uploads/2026/03/gardentour.png
ORGANIZER;CN="The Allison Inn & Spa":MAILTO:info@theallison.com
END:VEVENT
BEGIN:VEVENT
DTSTART;TZID=America/Los_Angeles:20271022T100000
DTEND;TZID=America/Los_Angeles:20271022T110000
DTSTAMP:20260422T020254
CREATED:20260320T195315Z
LAST-MODIFIED:20260421T010617Z
UID:10001594-1824199200-1824202800@theallison.com
SUMMARY:Garden Tour
DESCRIPTION:Step into the heart of our culinary story with a guided tour of the Chef’s Garden at The Allison Inn & Spa. \nOffered complimentary to hotel guests every Friday at 10 a.m.\, April through October\, this intimate experience is led by a member of our garden team\, an extension of JORY’s culinary program. Stroll through the garden as we share how our ingredients are grown\, harvested and sourced\, and learn about our bee colonies and the remarkable role they play in our garden ecosystem and culinary offerings. \nRSVP today to save your spot for this small group experience.
URL:https://theallison.com/event/garden-tour/2027-10-22/
LOCATION:The Allison Inn & Spa\, 2525 Allison Lane\, Newberg\, OR\, 97132\, United States
CATEGORIES:Featured Events
ATTACH;FMTTYPE=image/png:https://theallison.com/wp-content/uploads/2026/03/gardentour.png
ORGANIZER;CN="The Allison Inn & Spa":MAILTO:info@theallison.com
END:VEVENT
BEGIN:VEVENT
DTSTART;TZID=America/Los_Angeles:20271029T100000
DTEND;TZID=America/Los_Angeles:20271029T110000
DTSTAMP:20260422T020254
CREATED:20260320T195315Z
LAST-MODIFIED:20260421T010617Z
UID:10001595-1824804000-1824807600@theallison.com
SUMMARY:Garden Tour
DESCRIPTION:Step into the heart of our culinary story with a guided tour of the Chef’s Garden at The Allison Inn & Spa. \nOffered complimentary to hotel guests every Friday at 10 a.m.\, April through October\, this intimate experience is led by a member of our garden team\, an extension of JORY’s culinary program. Stroll through the garden as we share how our ingredients are grown\, harvested and sourced\, and learn about our bee colonies and the remarkable role they play in our garden ecosystem and culinary offerings. \nRSVP today to save your spot for this small group experience.
URL:https://theallison.com/event/garden-tour/2027-10-29/
LOCATION:The Allison Inn & Spa\, 2525 Allison Lane\, Newberg\, OR\, 97132\, United States
CATEGORIES:Featured Events
ATTACH;FMTTYPE=image/png:https://theallison.com/wp-content/uploads/2026/03/gardentour.png
ORGANIZER;CN="The Allison Inn & Spa":MAILTO:info@theallison.com
END:VEVENT
END:VCALENDAR